Package: TaxSEA Version: 1.3.0 Command: rm -rf TaxSEA.buildbin-libdir && mkdir TaxSEA.buildbin-libdir && /Users/biocbuild/BBS/utils/build-universal.sh TaxSEA_1.3.0.tar.gz /Library/Frameworks/R.framework/Resources/bin/R TaxSEA.buildbin-libdir StartedAt: 2025-11-21 23:54:13 -0500 (Fri, 21 Nov 2025) EndedAt: 2025-11-21 23:54:15 -0500 (Fri, 21 Nov 2025) EllapsedTime: 2.1 seconds RetCode: 0 Status: OK PackageFile: TaxSEA_1.3.0.tgz PackageFileSize: 371 KiB