Package: TargetSearch Version: 2.13.0 Command: /home/biocbuild/bbs-3.23-bioc/R/bin/R CMD build --keep-empty-dirs --no-resave-data TargetSearch StartedAt: 2025-11-03 20:18:28 -0500 (Mon, 03 Nov 2025) EndedAt: 2025-11-03 20:18:55 -0500 (Mon, 03 Nov 2025) EllapsedTime: 27.0 seconds RetCode: 0 Status: OK PackageFile: TargetSearch_2.13.0.tar.gz PackageFileSize: 722.5 KiB