Package: TargetSearch Version: 2.11.1 Command: /Library/Frameworks/R.framework/Resources/bin/R CMD INSTALL TargetSearch StartedAt: 2025-09-30 15:04:37 -0400 (Tue, 30 Sep 2025) EndedAt: 2025-09-30 15:05:02 -0400 (Tue, 30 Sep 2025) EllapsedTime: 25.1 seconds RetCode: 0 Status: OK