Package: TargetSearch Version: 2.11.1 Command: /Library/Frameworks/R.framework/Resources/bin/R CMD build --keep-empty-dirs --no-resave-data TargetSearch StartedAt: 2025-09-30 19:05:06 -0400 (Tue, 30 Sep 2025) EndedAt: 2025-09-30 19:05:58 -0400 (Tue, 30 Sep 2025) EllapsedTime: 51.4 seconds RetCode: 0 Status: OK PackageFile: TargetSearch_2.11.1.tar.gz PackageFileSize: 720.7 KiB