Package: TargetSearch Version: 2.11.1 Command: rm -rf TargetSearch.buildbin-libdir && mkdir TargetSearch.buildbin-libdir && /Users/biocbuild/BBS/utils/build-universal.sh TargetSearch_2.11.1.tar.gz /Library/Frameworks/R.framework/Resources/bin/R TargetSearch.buildbin-libdir StartedAt: 2025-10-01 02:10:59 -0400 (Wed, 01 Oct 2025) EndedAt: 2025-10-01 02:11:15 -0400 (Wed, 01 Oct 2025) EllapsedTime: 16.3 seconds RetCode: 0 Status: OK PackageFile: TargetSearch_2.11.1.tgz PackageFileSize: 1.247 MiB