Package: TargetSearch Version: 2.11.1 Maintainer: Alvaro Cuadros-Inostroza MaintainerEmail: acuadros+bioc at gmail.com git_url: https://git.bioconductor.org/packages/TargetSearch git_branch: devel git_last_commit: 5bc4203 git_last_commit_date: 2025-08-04 03:30:34 -0400 (Mon, 04 Aug 2025)