Package: TargetScore Version: 1.47.0 Command: /home/biocbuild/R/R/bin/R CMD build --keep-empty-dirs --no-resave-data TargetScore StartedAt: 2025-10-07 03:27:46 -0000 (Tue, 07 Oct 2025) EndedAt: 2025-10-07 03:28:06 -0000 (Tue, 07 Oct 2025) EllapsedTime: 20.0 seconds RetCode: 0 Status: OK PackageFile: TargetScore_1.47.0.tar.gz PackageFileSize: 1.223 MiB