Package: TargetScore Version: 1.47.0 Command: rm -rf TargetScore.buildbin-libdir && mkdir TargetScore.buildbin-libdir && F:\biocbuild\bbs-3.22-bioc\R\bin\R.exe CMD INSTALL --build --library=TargetScore.buildbin-libdir TargetScore_1.47.0.tar.gz StartedAt: 2025-08-15 11:28:13 -0400 (Fri, 15 Aug 2025) EndedAt: 2025-08-15 11:28:28 -0400 (Fri, 15 Aug 2025) EllapsedTime: 14.9 seconds RetCode: 0 Status: OK PackageFile: TargetScore_1.47.0.zip PackageFileSize: 1.261 MiB