Package: TargetScore Version: 1.49.0 Command: /home/biocbuild/bbs-3.23-bioc/R/bin/R CMD INSTALL TargetScore StartedAt: 2025-11-03 15:04:43 -0500 (Mon, 03 Nov 2025) EndedAt: 2025-11-03 15:04:51 -0500 (Mon, 03 Nov 2025) EllapsedTime: 8.2 seconds RetCode: 0 Status: OK