Package: TargetScore Version: 1.49.0 Command: /home/biocbuild/bbs-3.23-bioc/R/bin/R CMD check --install=check:TargetScore.install-out.txt --library=/home/biocbuild/bbs-3.23-bioc/R/site-library --timings TargetScore_1.49.0.tar.gz StartedAt: 2025-11-01 04:14:02 -0400 (Sat, 01 Nov 2025) EndedAt: 2025-11-01 04:14:48 -0400 (Sat, 01 Nov 2025) EllapsedTime: 46.1 seconds RetCode: 0 Status: OK CheckDir: TargetScore.Rcheck Warnings: 0