Package: TargetDecoy Version: 1.17.0 Command: /home/biocbuild/bbs-3.23-bioc/R/bin/R CMD INSTALL TargetDecoy StartedAt: 2025-11-20 15:22:09 -0500 (Thu, 20 Nov 2025) EndedAt: 2025-11-20 15:22:19 -0500 (Thu, 20 Nov 2025) EllapsedTime: 9.6 seconds RetCode: 0 Status: OK