Package: TargetDecoy Version: 1.17.0 Command: /home/biocbuild/bbs-3.23-bioc/R/bin/R CMD build --keep-empty-dirs --no-resave-data TargetDecoy StartedAt: 2025-11-20 20:28:21 -0500 (Thu, 20 Nov 2025) EndedAt: 2025-11-20 20:29:00 -0500 (Thu, 20 Nov 2025) EllapsedTime: 39.1 seconds RetCode: 0 Status: OK PackageFile: TargetDecoy_1.17.0.tar.gz PackageFileSize: 4.09 MiB