Package: TargetDecoy Version: 1.15.0 Command: /Library/Frameworks/R.framework/Resources/bin/R CMD INSTALL TargetDecoy StartedAt: 2025-09-30 15:25:25 -0400 (Tue, 30 Sep 2025) EndedAt: 2025-09-30 15:25:40 -0400 (Tue, 30 Sep 2025) EllapsedTime: 14.3 seconds RetCode: 0 Status: OK