Package: TargetDecoy Version: 1.15.0 Command: /Library/Frameworks/R.framework/Resources/bin/R CMD build --keep-empty-dirs --no-resave-data TargetDecoy StartedAt: 2025-10-01 19:07:05 -0400 (Wed, 01 Oct 2025) EndedAt: 2025-10-01 19:07:58 -0400 (Wed, 01 Oct 2025) EllapsedTime: 52.6 seconds RetCode: 0 Status: OK PackageFile: TargetDecoy_1.15.0.tar.gz PackageFileSize: 4.164 MiB