Package: TVTB Version: 1.35.2 Command: /home/biocbuild/bbs-3.22-bioc/R/bin/R CMD INSTALL TVTB StartedAt: 2025-10-20 15:44:45 -0400 (Mon, 20 Oct 2025) EndedAt: 2025-10-20 15:45:42 -0400 (Mon, 20 Oct 2025) EllapsedTime: 57.1 seconds RetCode: 0 Status: OK