Package: TVTB Version: 1.35.2 Command: /home/biocbuild/bbs-3.22-bioc/R/bin/R CMD build --keep-empty-dirs --no-resave-data --md5 TVTB StartedAt: 2025-10-20 20:32:38 -0400 (Mon, 20 Oct 2025) EndedAt: 2025-10-20 20:34:20 -0400 (Mon, 20 Oct 2025) EllapsedTime: 102.1 seconds RetCode: 0 Status: OK PackageFile: TVTB_1.35.2.tar.gz PackageFileSize: 1.532 MiB