Package: TTMap Version: 1.31.0 Command: /home/biocbuild/R/R/bin/R CMD INSTALL TTMap StartedAt: 2025-09-29 20:55:40 -0000 (Mon, 29 Sep 2025) EndedAt: 2025-09-29 20:56:10 -0000 (Mon, 29 Sep 2025) EllapsedTime: 30.8 seconds RetCode: 0 Status: OK