Package: TTMap Version: 1.31.0 Command: /home/biocbuild/R/R/bin/R CMD build --keep-empty-dirs --no-resave-data TTMap StartedAt: 2025-09-30 04:04:07 -0000 (Tue, 30 Sep 2025) EndedAt: 2025-09-30 04:05:07 -0000 (Tue, 30 Sep 2025) EllapsedTime: 60.0 seconds RetCode: 0 Status: OK PackageFile: TTMap_1.31.0.tar.gz PackageFileSize: 1.6 MiB