Package: TTMap Version: 1.31.0 Command: F:\biocbuild\bbs-3.22-bioc\R\bin\R.exe CMD INSTALL TTMap StartedAt: 2025-08-14 16:03:00 -0400 (Thu, 14 Aug 2025) EndedAt: 2025-08-14 16:03:31 -0400 (Thu, 14 Aug 2025) EllapsedTime: 30.7 seconds RetCode: 0 Status: OK