Package: TTMap Version: 1.33.0 Command: /home/biocbuild/bbs-3.23-bioc/R/bin/R CMD check --install=check:TTMap.install-out.txt --library=/home/biocbuild/bbs-3.23-bioc/R/site-library --timings TTMap_1.33.0.tar.gz StartedAt: 2025-11-01 04:33:45 -0400 (Sat, 01 Nov 2025) EndedAt: 2025-11-01 04:37:23 -0400 (Sat, 01 Nov 2025) EllapsedTime: 218.3 seconds RetCode: 0 Status: OK CheckDir: TTMap.Rcheck Warnings: 0