Package: TTMap Version: 1.33.0 Command: /home/biocbuild/bbs-3.23-bioc/R/bin/R CMD build --keep-empty-dirs --no-resave-data TTMap StartedAt: 2025-10-31 20:43:37 -0400 (Fri, 31 Oct 2025) EndedAt: 2025-10-31 20:44:23 -0400 (Fri, 31 Oct 2025) EllapsedTime: 46.0 seconds RetCode: 0 Status: OK PackageFile: TTMap_1.33.0.tar.gz PackageFileSize: 1.61 MiB