Package: TSCAN Version: 1.49.0 Command: /home/biocbuild/bbs-3.23-bioc/R/bin/R CMD INSTALL TSCAN StartedAt: 2025-11-06 15:38:04 -0500 (Thu, 06 Nov 2025) EndedAt: 2025-11-06 15:38:31 -0500 (Thu, 06 Nov 2025) EllapsedTime: 26.8 seconds RetCode: 0 Status: OK