Package: TSCAN Version: 1.49.0 Command: /home/biocbuild/bbs-3.23-bioc/R/bin/R CMD build --keep-empty-dirs --no-resave-data TSCAN StartedAt: 2025-11-06 20:29:48 -0500 (Thu, 06 Nov 2025) EndedAt: 2025-11-06 20:30:32 -0500 (Thu, 06 Nov 2025) EllapsedTime: 44.0 seconds RetCode: 0 Status: OK PackageFile: TSCAN_1.49.0.tar.gz PackageFileSize: 2.679 MiB