Package: TSCAN Version: 1.47.0 Command: rm -rf TSCAN.buildbin-libdir && mkdir TSCAN.buildbin-libdir && /Users/biocbuild/BBS/utils/build-universal.sh TSCAN_1.47.0.tar.gz /Library/Frameworks/R.framework/Resources/bin/R TSCAN.buildbin-libdir StartedAt: 2025-10-18 03:28:07 -0400 (Sat, 18 Oct 2025) EndedAt: 2025-10-18 03:28:49 -0400 (Sat, 18 Oct 2025) EllapsedTime: 42.1 seconds RetCode: 0 Status: OK PackageFile: TSCAN_1.47.0.tgz PackageFileSize: 2.764 MiB