Package: TSCAN Version: 1.47.0 Command: /Library/Frameworks/R.framework/Resources/bin/R CMD INSTALL TSCAN StartedAt: 2025-10-12 15:19:47 -0400 (Sun, 12 Oct 2025) EndedAt: 2025-10-12 15:19:59 -0400 (Sun, 12 Oct 2025) EllapsedTime: 11.5 seconds RetCode: 0 Status: OK