Package: TSCAN Version: 1.47.0 Command: /Library/Frameworks/R.framework/Resources/bin/R CMD build --keep-empty-dirs --no-resave-data TSCAN StartedAt: 2025-10-12 17:56:48 -0400 (Sun, 12 Oct 2025) EndedAt: 2025-10-12 17:57:07 -0400 (Sun, 12 Oct 2025) EllapsedTime: 19.2 seconds RetCode: 0 Status: OK PackageFile: TSCAN_1.47.0.tar.gz PackageFileSize: 2.679 MiB