Package: TSAR Version: 1.9.0 Command: /home/biocbuild/bbs-3.23-bioc/R/bin/R CMD INSTALL TSAR StartedAt: 2025-10-31 15:17:45 -0400 (Fri, 31 Oct 2025) EndedAt: 2025-10-31 15:18:04 -0400 (Fri, 31 Oct 2025) EllapsedTime: 19.2 seconds RetCode: 0 Status: OK