Package: TSAR Version: 1.9.0 Command: /home/biocbuild/bbs-3.23-bioc/R/bin/R CMD build --keep-empty-dirs --no-resave-data TSAR StartedAt: 2025-10-31 20:43:20 -0400 (Fri, 31 Oct 2025) EndedAt: 2025-10-31 20:45:20 -0400 (Fri, 31 Oct 2025) EllapsedTime: 120.1 seconds RetCode: 0 Status: OK PackageFile: TSAR_1.9.0.tar.gz PackageFileSize: 3.925 MiB