Package: TSAR Version: 1.7.0 Command: /Library/Frameworks/R.framework/Resources/bin/R CMD INSTALL TSAR StartedAt: 2025-10-14 15:05:54 -0400 (Tue, 14 Oct 2025) EndedAt: 2025-10-14 15:06:04 -0400 (Tue, 14 Oct 2025) EllapsedTime: 9.6 seconds RetCode: 0 Status: OK