Package: TSAR Version: 1.7.0 Command: /Library/Frameworks/R.framework/Resources/bin/R CMD build --keep-empty-dirs --no-resave-data TSAR StartedAt: 2025-10-14 18:00:04 -0400 (Tue, 14 Oct 2025) EndedAt: 2025-10-14 18:00:50 -0400 (Tue, 14 Oct 2025) EllapsedTime: 45.5 seconds RetCode: 0 Status: OK PackageFile: TSAR_1.7.0.tar.gz PackageFileSize: 4.047 MiB