Package: TSAR Version: 1.7.0 Command: rm -rf TSAR.buildbin-libdir && mkdir TSAR.buildbin-libdir && /Users/biocbuild/BBS/utils/build-universal.sh TSAR_1.7.0.tar.gz /Library/Frameworks/R.framework/Resources/bin/R TSAR.buildbin-libdir StartedAt: 2025-10-15 23:06:02 -0400 (Wed, 15 Oct 2025) EndedAt: 2025-10-15 23:06:08 -0400 (Wed, 15 Oct 2025) EllapsedTime: 6.2 seconds RetCode: 0 Status: OK PackageFile: TSAR_1.7.0.tgz PackageFileSize: 3.983 MiB