Package: TRESS Version: 1.15.0 Command: /home/biocbuild/bbs-3.22-bioc/R/bin/R CMD check --install=check:TRESS.install-out.txt --library=/home/biocbuild/bbs-3.22-bioc/R/site-library --timings TRESS_1.15.0.tar.gz StartedAt: 2025-10-17 06:55:53 -0400 (Fri, 17 Oct 2025) EndedAt: 2025-10-17 07:00:19 -0400 (Fri, 17 Oct 2025) EllapsedTime: 265.2 seconds RetCode: 0 Status: OK CheckDir: TRESS.Rcheck Warnings: 0