Package: TRESS Version: 1.17.0 Command: /home/biocbuild/bbs-3.23-bioc/R/bin/R CMD INSTALL TRESS StartedAt: 2025-11-05 15:46:18 -0500 (Wed, 05 Nov 2025) EndedAt: 2025-11-05 15:46:53 -0500 (Wed, 05 Nov 2025) EllapsedTime: 34.7 seconds RetCode: 0 Status: OK