Package: TRESS Version: 1.17.0 Command: /home/biocbuild/bbs-3.23-bioc/R/bin/R CMD build --keep-empty-dirs --no-resave-data TRESS StartedAt: 2025-11-04 20:29:23 -0500 (Tue, 04 Nov 2025) EndedAt: 2025-11-04 20:29:24 -0500 (Tue, 04 Nov 2025) EllapsedTime: 1.0 seconds RetCode: 0 Status: OK PackageFile: TRESS_1.17.0.tar.gz PackageFileSize: 483.8 KiB