Package: TREG Version: 1.15.0 Command: /home/biocbuild/bbs-3.23-bioc/R/bin/R CMD INSTALL TREG StartedAt: 2025-11-20 15:34:03 -0500 (Thu, 20 Nov 2025) EndedAt: 2025-11-20 15:34:24 -0500 (Thu, 20 Nov 2025) EllapsedTime: 21.1 seconds RetCode: 0 Status: OK