Package: TREG Version: 1.15.0 Command: /home/biocbuild/bbs-3.23-bioc/R/bin/R CMD build --keep-empty-dirs --no-resave-data TREG StartedAt: 2025-11-20 20:36:04 -0500 (Thu, 20 Nov 2025) EndedAt: 2025-11-20 20:37:46 -0500 (Thu, 20 Nov 2025) EllapsedTime: 102.1 seconds RetCode: 0 Status: OK PackageFile: TREG_1.15.0.tar.gz PackageFileSize: 2.402 MiB