Package: TREG Version: 1.13.0 Command: /Library/Frameworks/R.framework/Resources/bin/R CMD build --keep-empty-dirs --no-resave-data TREG StartedAt: 2025-10-24 19:07:39 -0400 (Fri, 24 Oct 2025) EndedAt: 2025-10-24 19:09:36 -0400 (Fri, 24 Oct 2025) EllapsedTime: 116.7 seconds RetCode: 0 Status: OK PackageFile: TREG_1.13.0.tar.gz PackageFileSize: 2.643 MiB