Package: TREG Version: 1.13.0 Command: rm -rf TREG.buildbin-libdir && mkdir TREG.buildbin-libdir && /Users/biocbuild/BBS/utils/build-universal.sh TREG_1.13.0.tar.gz /Library/Frameworks/R.framework/Resources/bin/R TREG.buildbin-libdir StartedAt: 2025-10-24 02:03:22 -0400 (Fri, 24 Oct 2025) EndedAt: 2025-10-24 02:03:54 -0400 (Fri, 24 Oct 2025) EllapsedTime: 31.4 seconds RetCode: 0 Status: OK PackageFile: TREG_1.13.0.tgz PackageFileSize: 2.66 MiB