Package: TREG Version: 1.13.0 Command: /Library/Frameworks/R.framework/Resources/bin/R CMD INSTALL TREG StartedAt: 2025-10-03 15:18:58 -0400 (Fri, 03 Oct 2025) EndedAt: 2025-10-03 15:19:07 -0400 (Fri, 03 Oct 2025) EllapsedTime: 8.2 seconds RetCode: 0 Status: OK