Package: TREG Version: 1.13.0 Command: rm -rf TREG.buildbin-libdir && mkdir TREG.buildbin-libdir && /Users/biocbuild/BBS/utils/build-universal.sh TREG_1.13.0.tar.gz /Library/Frameworks/R.framework/Resources/bin/R TREG.buildbin-libdir StartedAt: 2025-10-03 22:59:13 -0400 (Fri, 03 Oct 2025) EndedAt: 2025-10-03 22:59:22 -0400 (Fri, 03 Oct 2025) EllapsedTime: 9.2 seconds RetCode: 0 Status: OK PackageFile: TREG_1.13.0.tgz PackageFileSize: 2.661 MiB