Package: TPP2D Version: 1.25.2 Command: /home/biocbuild/R/R/bin/R CMD INSTALL TPP2D StartedAt: 2025-10-20 20:19:33 -0000 (Mon, 20 Oct 2025) EndedAt: 2025-10-20 20:19:57 -0000 (Mon, 20 Oct 2025) EllapsedTime: 24.2 seconds RetCode: 0 Status: OK