Package: TPP2D Version: 1.25.2 Command: /home/biocbuild/R/R/bin/R CMD build --keep-empty-dirs --no-resave-data TPP2D StartedAt: 2025-10-21 03:47:49 -0000 (Tue, 21 Oct 2025) EndedAt: 2025-10-21 03:48:40 -0000 (Tue, 21 Oct 2025) EllapsedTime: 51.0 seconds RetCode: 0 Status: OK PackageFile: TPP2D_1.25.2.tar.gz PackageFileSize: 2.168 MiB