Package: TPP2D Version: 1.27.0 Command: /home/biocbuild/bbs-3.23-bioc/R/bin/R CMD INSTALL TPP2D StartedAt: 2025-11-07 15:09:28 -0500 (Fri, 07 Nov 2025) EndedAt: 2025-11-07 15:09:37 -0500 (Fri, 07 Nov 2025) EllapsedTime: 8.8 seconds RetCode: 0 Status: OK