Package: TPP Version: 3.39.0 Command: /home/biocbuild/bbs-3.23-bioc/R/bin/R CMD INSTALL TPP StartedAt: 2025-11-20 15:12:38 -0500 (Thu, 20 Nov 2025) EndedAt: 2025-11-20 15:12:52 -0500 (Thu, 20 Nov 2025) EllapsedTime: 14.7 seconds RetCode: 0 Status: OK