Package: TPP Version: 3.39.0 Command: /home/biocbuild/bbs-3.23-bioc/R/bin/R CMD build --keep-empty-dirs --no-resave-data TPP StartedAt: 2025-11-20 20:34:05 -0500 (Thu, 20 Nov 2025) EndedAt: 2025-11-20 20:35:45 -0500 (Thu, 20 Nov 2025) EllapsedTime: 100.1 seconds RetCode: 0 Status: OK PackageFile: TPP_3.39.0.tar.gz PackageFileSize: 8.429 MiB