Package: TPP Version: 3.37.0 Command: /Library/Frameworks/R.framework/Resources/bin/R CMD INSTALL TPP StartedAt: 2025-10-24 15:23:04 -0400 (Fri, 24 Oct 2025) EndedAt: 2025-10-24 15:23:35 -0400 (Fri, 24 Oct 2025) EllapsedTime: 31.4 seconds RetCode: 0 Status: OK