Package: TPP Version: 3.37.0 Command: /Library/Frameworks/R.framework/Resources/bin/R CMD build --keep-empty-dirs --no-resave-data TPP StartedAt: 2025-10-10 17:57:04 -0400 (Fri, 10 Oct 2025) EndedAt: 2025-10-10 17:57:46 -0400 (Fri, 10 Oct 2025) EllapsedTime: 42.5 seconds RetCode: 0 Status: OK PackageFile: TPP_3.37.0.tar.gz PackageFileSize: 8.43 MiB