Package: TPP Version: 3.37.0 Command: rm -rf TPP.buildbin-libdir && mkdir TPP.buildbin-libdir && /Users/biocbuild/BBS/utils/build-universal.sh TPP_3.37.0.tar.gz /Library/Frameworks/R.framework/Resources/bin/R TPP.buildbin-libdir StartedAt: 2025-10-10 23:00:44 -0400 (Fri, 10 Oct 2025) EndedAt: 2025-10-10 23:00:52 -0400 (Fri, 10 Oct 2025) EllapsedTime: 7.1 seconds RetCode: 0 Status: OK PackageFile: TPP_3.37.0.tgz PackageFileSize: 8.871 MiB