Package: TOP Version: 1.11.0 Command: /home/biocbuild/bbs-3.23-bioc/R/bin/R CMD INSTALL TOP StartedAt: 2025-11-07 15:29:42 -0500 (Fri, 07 Nov 2025) EndedAt: 2025-11-07 15:30:15 -0500 (Fri, 07 Nov 2025) EllapsedTime: 33.4 seconds RetCode: 0 Status: OK