Package: TOP Version: 1.9.0 Command: /Library/Frameworks/R.framework/Resources/bin/R CMD INSTALL TOP StartedAt: 2025-10-14 15:28:38 -0400 (Tue, 14 Oct 2025) EndedAt: 2025-10-14 15:29:25 -0400 (Tue, 14 Oct 2025) EllapsedTime: 46.8 seconds RetCode: 0 Status: OK